BEGIN:VCALENDAR
VERSION:2.0
PRODID:-//Secretariat of Research &amp; Innovation Faculty of Medicine - ECPv6.2.3.2//NONSGML v1.0//EN
CALSCALE:GREGORIAN
METHOD:PUBLISH
X-ORIGINAL-URL:https://www.ukm.my/spifper
X-WR-CALDESC:Events for Secretariat of Research &amp; Innovation Faculty of Medicine
REFRESH-INTERVAL;VALUE=DURATION:PT1H
X-Robots-Tag:noindex
X-PUBLISHED-TTL:PT1H
BEGIN:VTIMEZONE
TZID:Asia/Shanghai
BEGIN:STANDARD
TZOFFSETFROM:+0800
TZOFFSETTO:+0800
TZNAME:CST
DTSTART:20240101T000000
END:STANDARD
END:VTIMEZONE
BEGIN:VEVENT
DTSTART;TZID=Asia/Shanghai:20240305T100000
DTEND;TZID=Asia/Shanghai:20240305T163000
DTSTAMP:20260421T082458
CREATED:20240214T010847Z
LAST-MODIFIED:20240214T010847Z
UID:13223-1709632800-1709656200@www.ukm.my
SUMMARY:Bengkel Penerbitan Buku Dalam Bahasa Melayu
DESCRIPTION:
URL:https://www.ukm.my/spifper/event/bengkel-penerbitan-buku-dalam-bahasa-melayu/
LOCATION:Bilik Seminar Jabatan Pendidikan Perubatan\, Aras 13 Bangunan Praklinikal\, Cheras\, Kuala Lumpur\, 56000\, Malaysia
ATTACH;FMTTYPE=image/jpeg:https://www.ukm.my/spifper/wp-content/uploads/2024/02/Poster-BengkelBuku-scaled.jpg
END:VEVENT
BEGIN:VEVENT
DTSTART;TZID=Asia/Shanghai:20240306T080000
DTEND;TZID=Asia/Shanghai:20240308T170000
DTSTAMP:20260421T082458
CREATED:20240117T015629Z
LAST-MODIFIED:20240117T023648Z
UID:13185-1709712000-1709917200@www.ukm.my
SUMMARY:i-Good Clinical Practice Faculty of Medicine UKM 2024
DESCRIPTION:
URL:https://www.ukm.my/spifper/event/i-good-clinical-practice-faculty-of-medicine-ukm-2024/
LOCATION:Zoom Meeting\, Malaysia
ATTACH;FMTTYPE=image/jpeg:https://www.ukm.my/spifper/wp-content/uploads/2024/01/GCP-2024-March-scaled.jpg
END:VEVENT
END:VCALENDAR